BEGIN:VCALENDAR
VERSION:2.0
PRODID:-//Midwest Buddhist Temple - ECPv6.15.20//NONSGML v1.0//EN
CALSCALE:GREGORIAN
METHOD:PUBLISH
X-ORIGINAL-URL:https://mbtchicago.org
X-WR-CALDESC:Events for Midwest Buddhist Temple
REFRESH-INTERVAL;VALUE=DURATION:PT1H
X-Robots-Tag:noindex
X-PUBLISHED-TTL:PT1H
BEGIN:VTIMEZONE
TZID:America/Chicago
BEGIN:DAYLIGHT
TZOFFSETFROM:-0600
TZOFFSETTO:-0500
TZNAME:CDT
DTSTART:20240310T080000
END:DAYLIGHT
BEGIN:STANDARD
TZOFFSETFROM:-0500
TZOFFSETTO:-0600
TZNAME:CST
DTSTART:20241103T070000
END:STANDARD
BEGIN:DAYLIGHT
TZOFFSETFROM:-0600
TZOFFSETTO:-0500
TZNAME:CDT
DTSTART:20250309T080000
END:DAYLIGHT
BEGIN:STANDARD
TZOFFSETFROM:-0500
TZOFFSETTO:-0600
TZNAME:CST
DTSTART:20251102T070000
END:STANDARD
BEGIN:DAYLIGHT
TZOFFSETFROM:-0600
TZOFFSETTO:-0500
TZNAME:CDT
DTSTART:20260308T080000
END:DAYLIGHT
BEGIN:STANDARD
TZOFFSETFROM:-0500
TZOFFSETTO:-0600
TZNAME:CST
DTSTART:20261101T070000
END:STANDARD
END:VTIMEZONE
BEGIN:VEVENT
DTSTART;TZID=America/Chicago:20251130T103000
DTEND;TZID=America/Chicago:20251130T113000
DTSTAMP:20260424T092626
CREATED:20250922T210656Z
LAST-MODIFIED:20250922T210656Z
UID:28386-1764498600-1764502200@mbtchicago.org
SUMMARY:Sunday Family Service
DESCRIPTION:Welcome to our weekly Family Service. We are a community of Jodo Shinshu Buddhists which is a Pure Land tradition in the Mahayana School of Buddhism. What this means is that we are concerned not only with our own lives but for the lives of others. \nWe hold services in-person in our Hondo (chapel) and we also stream our services live (and services can be accessed later in either video or podcast formats). If you plan to attend in person please observe our In-Person Attendance Policy or if you wish to attend virtually please contact the temple office for information. \nTo access past Dharma messages visit our Online Dharma Talks page.
URL:https://mbtchicago.org/event/family-service-nov-30/
LOCATION:Midwest Buddhist Temple\, 435 W. Menomonee Street\, Chicago\, 60614\, United States
CATEGORIES:Services
ATTACH;FMTTYPE=image/jpeg:https://mbtchicago.org/wp-content/uploads/2024/01/Family-Service-1000x500-1.jpg
END:VEVENT
END:VCALENDAR