BEGIN:VCALENDAR
VERSION:2.0
PRODID:-//Midwest Buddhist Temple - ECPv6.15.20//NONSGML v1.0//EN
CALSCALE:GREGORIAN
METHOD:PUBLISH
X-ORIGINAL-URL:https://mbtchicago.org
X-WR-CALDESC:Events for Midwest Buddhist Temple
REFRESH-INTERVAL;VALUE=DURATION:PT1H
X-Robots-Tag:noindex
X-PUBLISHED-TTL:PT1H
BEGIN:VTIMEZONE
TZID:America/Chicago
BEGIN:DAYLIGHT
TZOFFSETFROM:-0600
TZOFFSETTO:-0500
TZNAME:CDT
DTSTART:20240310T080000
END:DAYLIGHT
BEGIN:STANDARD
TZOFFSETFROM:-0500
TZOFFSETTO:-0600
TZNAME:CST
DTSTART:20241103T070000
END:STANDARD
BEGIN:DAYLIGHT
TZOFFSETFROM:-0600
TZOFFSETTO:-0500
TZNAME:CDT
DTSTART:20250309T080000
END:DAYLIGHT
BEGIN:STANDARD
TZOFFSETFROM:-0500
TZOFFSETTO:-0600
TZNAME:CST
DTSTART:20251102T070000
END:STANDARD
BEGIN:DAYLIGHT
TZOFFSETFROM:-0600
TZOFFSETTO:-0500
TZNAME:CDT
DTSTART:20260308T080000
END:DAYLIGHT
BEGIN:STANDARD
TZOFFSETFROM:-0500
TZOFFSETTO:-0600
TZNAME:CST
DTSTART:20261101T070000
END:STANDARD
END:VTIMEZONE
BEGIN:VEVENT
DTSTART;TZID=America/Chicago:20251231T193000
DTEND;TZID=America/Chicago:20251231T203000
DTSTAMP:20260424T074342
CREATED:20241119T180650Z
LAST-MODIFIED:20250922T211356Z
UID:27601-1767209400-1767213000@mbtchicago.org
SUMMARY:Joya-e New Years Eve Service
DESCRIPTION:Join us for a short service\, after which we take turns striking the kansho bell outside the hondo 108 times to complete the old year and ring in a fresh New Year. Then enjoy a traditional meal of buckwheat noodles\, which symbolize longevity. Please contact the temple office to RSVP.
URL:https://mbtchicago.org/event/new-years-eve/
LOCATION:Midwest Buddhist Temple\, 435 W. Menomonee Street\, Chicago\, 60614\, United States
CATEGORIES:Events
ATTACH;FMTTYPE=image/jpeg:https://mbtchicago.org/wp-content/uploads/2024/01/Family-Service-1000x500-1.jpg
END:VEVENT
END:VCALENDAR