BEGIN:VCALENDAR
VERSION:2.0
PRODID:-//Midwest Buddhist Temple - ECPv6.15.20//NONSGML v1.0//EN
CALSCALE:GREGORIAN
METHOD:PUBLISH
X-ORIGINAL-URL:https://mbtchicago.org
X-WR-CALDESC:Events for Midwest Buddhist Temple
REFRESH-INTERVAL;VALUE=DURATION:PT1H
X-Robots-Tag:noindex
X-PUBLISHED-TTL:PT1H
BEGIN:VTIMEZONE
TZID:America/Chicago
BEGIN:DAYLIGHT
TZOFFSETFROM:-0600
TZOFFSETTO:-0500
TZNAME:CDT
DTSTART:20250309T080000
END:DAYLIGHT
BEGIN:STANDARD
TZOFFSETFROM:-0500
TZOFFSETTO:-0600
TZNAME:CST
DTSTART:20251102T070000
END:STANDARD
BEGIN:DAYLIGHT
TZOFFSETFROM:-0600
TZOFFSETTO:-0500
TZNAME:CDT
DTSTART:20260308T080000
END:DAYLIGHT
BEGIN:STANDARD
TZOFFSETFROM:-0500
TZOFFSETTO:-0600
TZNAME:CST
DTSTART:20261101T070000
END:STANDARD
BEGIN:DAYLIGHT
TZOFFSETFROM:-0600
TZOFFSETTO:-0500
TZNAME:CDT
DTSTART:20270314T080000
END:DAYLIGHT
BEGIN:STANDARD
TZOFFSETFROM:-0500
TZOFFSETTO:-0600
TZNAME:CST
DTSTART:20271107T070000
END:STANDARD
END:VTIMEZONE
BEGIN:VEVENT
DTSTART;TZID=America/Chicago:20260215T103000
DTEND;TZID=America/Chicago:20260215T113000
DTSTAMP:20260424T061534
CREATED:20240115T213623Z
LAST-MODIFIED:20260213T192218Z
UID:26779-1771151400-1771155000@mbtchicago.org
SUMMARY:Nirvana Day Service - ZOOM ONLY
DESCRIPTION:The Feb 15 Nirvana Day Service will be ZOOM only\n(The MBT Temple building will be closed until further notice) \n  \nNirvana Day Service\, Ne-han-e\, is the annual memorial service of Shakyamuni Buddha\, the founder of Buddhism. \nIf you would like to join our ZOOM service the link is in the Weekly Newsletter email. If you cannot find the ZOOM link please contact us. \nYou can always access recorded Dharma talks (usually posted within 24 hours of the Service) via our Online Dharma Talks page.
URL:https://mbtchicago.org/event/nirvana-day/
LOCATION:ZOOM
CATEGORIES:Services
ATTACH;FMTTYPE=image/jpeg:https://mbtchicago.org/wp-content/uploads/2024/01/Family-Service-1000x500-1.jpg
END:VEVENT
END:VCALENDAR