BEGIN:VCALENDAR
VERSION:2.0
PRODID:-//Midwest Buddhist Temple - ECPv6.15.20//NONSGML v1.0//EN
CALSCALE:GREGORIAN
METHOD:PUBLISH
X-ORIGINAL-URL:https://mbtchicago.org
X-WR-CALDESC:Events for Midwest Buddhist Temple
REFRESH-INTERVAL;VALUE=DURATION:PT1H
X-Robots-Tag:noindex
X-PUBLISHED-TTL:PT1H
BEGIN:VTIMEZONE
TZID:America/Chicago
BEGIN:DAYLIGHT
TZOFFSETFROM:-0600
TZOFFSETTO:-0500
TZNAME:CDT
DTSTART:20250309T080000
END:DAYLIGHT
BEGIN:STANDARD
TZOFFSETFROM:-0500
TZOFFSETTO:-0600
TZNAME:CST
DTSTART:20251102T070000
END:STANDARD
BEGIN:DAYLIGHT
TZOFFSETFROM:-0600
TZOFFSETTO:-0500
TZNAME:CDT
DTSTART:20260308T080000
END:DAYLIGHT
BEGIN:STANDARD
TZOFFSETFROM:-0500
TZOFFSETTO:-0600
TZNAME:CST
DTSTART:20261101T070000
END:STANDARD
BEGIN:DAYLIGHT
TZOFFSETFROM:-0600
TZOFFSETTO:-0500
TZNAME:CDT
DTSTART:20270314T080000
END:DAYLIGHT
BEGIN:STANDARD
TZOFFSETFROM:-0500
TZOFFSETTO:-0600
TZNAME:CST
DTSTART:20271107T070000
END:STANDARD
END:VTIMEZONE
BEGIN:VEVENT
DTSTART;TZID=America/Chicago:20260711T200000
DTEND;TZID=America/Chicago:20260711T220000
DTSTAMP:20260422T120937
CREATED:20240308T192552Z
LAST-MODIFIED:20260328T152840Z
UID:27139-1783800000-1783807200@mbtchicago.org
SUMMARY:BON-ODORI Festival
DESCRIPTION:Bon Odori is the annual festival to express our gratitude to our ancestors and the joy in the Truth of Life.. \nThe chochin lanterns will hang above our temple parking lot. The cars will be gone\, replaced with a ring of chairs\, a stage for a taiko drum. And as nighttime falls\, we will fill the lot to dance Japanese folk dances and honor loved ones who have passed before us. It’s the Bon Odori\, celebrating Obon\, one of the most colorful of the Buddhist observances which dates back 1500 years. \nEveryone is welcome to dance at the festival. Although you don’t need to know the dances to participate\, anyone wishing to learn before the festival can attend open practices led by the MBT Minyo group. \nfor more information: \n  MBT Welcome Brochure \n  Online Dharma Talks \n In-Person Attendance Policy
URL:https://mbtchicago.org/event/bon-odori/
LOCATION:Midwest Buddhist Temple\, 435 W. Menomonee Street\, Chicago\, 60614\, United States
CATEGORIES:Events
ATTACH;FMTTYPE=image/jpeg:https://mbtchicago.org/wp-content/uploads/2020/07/Bon-Odori-800x550-1.jpg
END:VEVENT
END:VCALENDAR