BEGIN:VCALENDAR
VERSION:2.0
PRODID:-//Midwest Buddhist Temple - ECPv6.15.20//NONSGML v1.0//EN
CALSCALE:GREGORIAN
METHOD:PUBLISH
X-WR-CALNAME:Midwest Buddhist Temple
X-ORIGINAL-URL:https://mbtchicago.org
X-WR-CALDESC:Events for Midwest Buddhist Temple
REFRESH-INTERVAL;VALUE=DURATION:PT1H
X-Robots-Tag:noindex
X-PUBLISHED-TTL:PT1H
BEGIN:VTIMEZONE
TZID:America/Chicago
BEGIN:DAYLIGHT
TZOFFSETFROM:-0600
TZOFFSETTO:-0500
TZNAME:CDT
DTSTART:20240310T080000
END:DAYLIGHT
BEGIN:STANDARD
TZOFFSETFROM:-0500
TZOFFSETTO:-0600
TZNAME:CST
DTSTART:20241103T070000
END:STANDARD
BEGIN:DAYLIGHT
TZOFFSETFROM:-0600
TZOFFSETTO:-0500
TZNAME:CDT
DTSTART:20250309T080000
END:DAYLIGHT
BEGIN:STANDARD
TZOFFSETFROM:-0500
TZOFFSETTO:-0600
TZNAME:CST
DTSTART:20251102T070000
END:STANDARD
BEGIN:DAYLIGHT
TZOFFSETFROM:-0600
TZOFFSETTO:-0500
TZNAME:CDT
DTSTART:20260308T080000
END:DAYLIGHT
BEGIN:STANDARD
TZOFFSETFROM:-0500
TZOFFSETTO:-0600
TZNAME:CST
DTSTART:20261101T070000
END:STANDARD
END:VTIMEZONE
BEGIN:VEVENT
DTSTART;TZID=America/Chicago:20250817T103000
DTEND;TZID=America/Chicago:20250817T113000
DTSTAMP:20260422T174213
CREATED:20250305T165343Z
LAST-MODIFIED:20250305T165343Z
UID:28035-1755426600-1755430200@mbtchicago.org
SUMMARY:NO Family Service on AUGUST 17
DESCRIPTION:DUE TO THE CHICAGO AIR & WATER SHOW\, THERE WILL BE NO FAMILY SERVICE ON JUNE 18th. \nPlease join us at our next service. For more information: \n  MBT Welcome Brochure \n  Online Dharma Talks \n In-Person Attendance Policy
URL:https://mbtchicago.org/event/family-service-noservice-air-water/
LOCATION:Midwest Buddhist Temple\, 435 W. Menomonee Street\, Chicago\, 60614\, United States
CATEGORIES:Services
ATTACH;FMTTYPE=image/jpeg:https://mbtchicago.org/wp-content/uploads/2024/01/Family-Service-1000x500-1.jpg
END:VEVENT
BEGIN:VEVENT
DTSTART;TZID=America/Chicago:20250810T110000
DTEND;TZID=America/Chicago:20250810T160000
DTSTAMP:20260422T174213
CREATED:20250528T220305Z
LAST-MODIFIED:20250528T220835Z
UID:28162-1754823600-1754841600@mbtchicago.org
SUMMARY:Ginza Holiday 2025 - Sunday August 10
DESCRIPTION:GINZA HOLIDAY 2025 will take place on:\n\nAugust 8 5-8pm\nAugust 9 11am-7pm\nAugust 10 11am-4pm\n\nMark your calendars and tell your friends and families! Help us spread the word to all of our members\, guests\, and volunteer workers about this year’s Ginza Holiday – our 70th year! As we finalize details\, we will update our Ginza website. We hope to see you at GINZA! For more information: ginzaholiday.com 
URL:https://mbtchicago.org/event/ginza-8-10-25/
LOCATION:Midwest Buddhist Temple\, 435 W. Menomonee Street\, Chicago\, 60614\, United States
CATEGORIES:Events
ATTACH;FMTTYPE=image/jpeg:https://mbtchicago.org/wp-content/uploads/2024/03/Full-Banner-2025.jpg
END:VEVENT
BEGIN:VEVENT
DTSTART;TZID=America/Chicago:20250809T110000
DTEND;TZID=America/Chicago:20250809T190000
DTSTAMP:20260422T174213
CREATED:20250528T220203Z
LAST-MODIFIED:20250528T220658Z
UID:28160-1754737200-1754766000@mbtchicago.org
SUMMARY:Ginza Holiday 2025 - Saturday August 9
DESCRIPTION:GINZA HOLIDAY 2025 will take place on:\n\nAugust 8 5-8pm\nAugust 9 11am-7pm\nAugust 10 11am-4pm\n\nMark your calendars and tell your friends and families! Help us spread the word to all of our members\, guests\, and volunteer workers about this year’s Ginza Holiday – our 70th year! As we finalize details\, we will update our Ginza website. We hope to see you at GINZA! For more information: ginzaholiday.com 
URL:https://mbtchicago.org/event/ginza-8-9-25/
LOCATION:Midwest Buddhist Temple\, 435 W. Menomonee Street\, Chicago\, 60614\, United States
CATEGORIES:Events
ATTACH;FMTTYPE=image/jpeg:https://mbtchicago.org/wp-content/uploads/2024/03/Full-Banner-2025.jpg
END:VEVENT
BEGIN:VEVENT
DTSTART;TZID=America/Chicago:20250808T170000
DTEND;TZID=America/Chicago:20250808T200000
DTSTAMP:20260422T174213
CREATED:20240308T194006Z
LAST-MODIFIED:20250528T220515Z
UID:27147-1754672400-1754683200@mbtchicago.org
SUMMARY:Ginza Holiday 2025 - Friday August 8
DESCRIPTION:GINZA HOLIDAY 2025 will take place on:\n\nAugust 8 5-8pm\nAugust 9 11am-7pm\nAugust 10 11am-4pm\n\nMark your calendars and tell your friends and families! Help us spread the word to all of our members\, guests\, and volunteer workers about this year’s Ginza Holiday – our 70th year! As we finalize details\, we will update our Ginza website. We hope to see you at GINZA! For more information: ginzaholiday.com 
URL:https://mbtchicago.org/event/ginza-8-8-25/
LOCATION:Midwest Buddhist Temple\, 435 W. Menomonee Street\, Chicago\, 60614\, United States
CATEGORIES:Events
ATTACH;FMTTYPE=image/jpeg:https://mbtchicago.org/wp-content/uploads/2024/03/Full-Banner-2025.jpg
END:VEVENT
END:VCALENDAR