BEGIN:VCALENDAR
VERSION:2.0
PRODID:-//Midwest Buddhist Temple - ECPv6.15.20//NONSGML v1.0//EN
CALSCALE:GREGORIAN
METHOD:PUBLISH
X-ORIGINAL-URL:https://mbtchicago.org
X-WR-CALDESC:Events for Midwest Buddhist Temple
REFRESH-INTERVAL;VALUE=DURATION:PT1H
X-Robots-Tag:noindex
X-PUBLISHED-TTL:PT1H
BEGIN:VTIMEZONE
TZID:America/Chicago
BEGIN:DAYLIGHT
TZOFFSETFROM:-0600
TZOFFSETTO:-0500
TZNAME:CDT
DTSTART:20250309T080000
END:DAYLIGHT
BEGIN:STANDARD
TZOFFSETFROM:-0500
TZOFFSETTO:-0600
TZNAME:CST
DTSTART:20251102T070000
END:STANDARD
BEGIN:DAYLIGHT
TZOFFSETFROM:-0600
TZOFFSETTO:-0500
TZNAME:CDT
DTSTART:20260308T080000
END:DAYLIGHT
BEGIN:STANDARD
TZOFFSETFROM:-0500
TZOFFSETTO:-0600
TZNAME:CST
DTSTART:20261101T070000
END:STANDARD
BEGIN:DAYLIGHT
TZOFFSETFROM:-0600
TZOFFSETTO:-0500
TZNAME:CDT
DTSTART:20270314T080000
END:DAYLIGHT
BEGIN:STANDARD
TZOFFSETFROM:-0500
TZOFFSETTO:-0600
TZNAME:CST
DTSTART:20271107T070000
END:STANDARD
END:VTIMEZONE
BEGIN:VEVENT
DTSTART;TZID=America/Chicago:20260101T103000
DTEND;TZID=America/Chicago:20260101T230000
DTSTAMP:20260424T061602
CREATED:20241119T175818Z
LAST-MODIFIED:20250922T211444Z
UID:27597-1767263400-1767308400@mbtchicago.org
SUMMARY:New Years Day Service
DESCRIPTION:On New Years Day please join us for the first service of 2026! We will have a short service followed by the traditional meal of Ozoni. Please contact the temple office to RSVP.
URL:https://mbtchicago.org/event/new-years-day/
LOCATION:Midwest Buddhist Temple\, 435 W. Menomonee Street\, Chicago\, 60614\, United States
CATEGORIES:Events
ATTACH;FMTTYPE=image/jpeg:https://mbtchicago.org/wp-content/uploads/2024/01/Family-Service-1000x500-1.jpg
END:VEVENT
BEGIN:VEVENT
DTSTART;TZID=America/Chicago:20260104T103000
DTEND;TZID=America/Chicago:20260104T113000
DTSTAMP:20260424T061602
CREATED:20241119T174023Z
LAST-MODIFIED:20251209T162710Z
UID:27588-1767522600-1767526200@mbtchicago.org
SUMMARY:January Monthly Memorial Service
DESCRIPTION:At the first service of each month we hold the Monthly Memorial Service. During this service we honor those who have passed during this month. The Monthly Memorial is a part of our regular Family Service. \nWe hold services in-person in our Hondo (chapel) and we also stream our services live (and services can be accessed later in either video or podcast formats). If you plan to attend in person please observe our In-Person Attendance Policy or if you wish to attend virtually please contact the temple office for information. \nfor more information: \n  MBT Welcome Brochure \n  Online Dharma Talks \n In-Person Attendance Policy
URL:https://mbtchicago.org/event/family-service-jan-4-2026/
LOCATION:Midwest Buddhist Temple\, 435 W. Menomonee Street\, Chicago\, 60614\, United States
CATEGORIES:Services
ATTACH;FMTTYPE=image/jpeg:https://mbtchicago.org/wp-content/uploads/2024/01/Memorial-Service-1000x500-1.jpg
END:VEVENT
BEGIN:VEVENT
DTSTART;TZID=America/Chicago:20260111T103000
DTEND;TZID=America/Chicago:20260111T113000
DTSTAMP:20260424T061602
CREATED:20241119T174344Z
LAST-MODIFIED:20251209T163626Z
UID:27587-1768127400-1768131000@mbtchicago.org
SUMMARY:Sunday Family Service
DESCRIPTION:Welcome to our weekly Family Service. We are a community of Jodo Shinshu Buddhists which is a Pure Land tradition in the Mahayana School of Buddhism. What this means is that we are concerned not only with our own lives but for the lives of others. \nWe hold services in-person in our Hondo (chapel) and we also stream our services live (and services can be accessed later in either video or podcast formats). If you plan to attend in person please observe our In-Person Attendance Policy or if you wish to attend virtually please contact the temple office for information. \nfor more information: \n  MBT Welcome Brochure \n  Online Dharma Talks \n In-Person Attendance Policy
URL:https://mbtchicago.org/event/family-service-jan-12-2025/
LOCATION:Midwest Buddhist Temple\, 435 W. Menomonee Street\, Chicago\, 60614\, United States
CATEGORIES:Services
ATTACH;FMTTYPE=image/jpeg:https://mbtchicago.org/wp-content/uploads/2024/01/Family-Service-1000x500-1.jpg
END:VEVENT
BEGIN:VEVENT
DTSTART;TZID=America/Chicago:20260118T103000
DTEND;TZID=America/Chicago:20260118T113000
DTSTAMP:20260424T061602
CREATED:20241119T174640Z
LAST-MODIFIED:20251209T164116Z
UID:27593-1768732200-1768735800@mbtchicago.org
SUMMARY:Hoonko Service
DESCRIPTION:Ho-on-ko is the annual memorial service for Shinran Shonin\, the founder of the Shin Buddhist tradition. This service expresses our gratitude to Shinran for showing the Path of the Wisdom and Compassion that is Amida Buddha. \nWe hold services in-person in our Hondo (chapel) and we also stream our services live (and services can be accessed later in either video or podcast formats). If you plan to attend in person please observe our In-Person Attendance Policy or if you wish to attend virtually please contact the temple office for information. \nfor more information: \n  MBT Welcome Brochure \n  Online Dharma Talks \n In-Person Attendance Policy
URL:https://mbtchicago.org/event/family-service-jan-18-2026/
LOCATION:Midwest Buddhist Temple\, 435 W. Menomonee Street\, Chicago\, 60614\, United States
CATEGORIES:Services
ATTACH;FMTTYPE=image/jpeg:https://mbtchicago.org/wp-content/uploads/2024/01/Family-Service-1000x500-1.jpg
END:VEVENT
BEGIN:VEVENT
DTSTART;TZID=America/Chicago:20260125T103000
DTEND;TZID=America/Chicago:20260125T113000
DTSTAMP:20260424T061602
CREATED:20241119T174823Z
LAST-MODIFIED:20251209T164410Z
UID:27595-1769337000-1769340600@mbtchicago.org
SUMMARY:Sunday Family Service
DESCRIPTION:Welcome to our weekly Family Service. We are a community of Jodo Shinshu Buddhists which is a Pure Land tradition in the Mahayana School of Buddhism. What this means is that we are concerned not only with our own lives but for the lives of others. \nWe hold services in-person in our Hondo (chapel) and we also stream our services live (and services can be accessed later in either video or podcast formats). If you plan to attend in person please observe our In-Person Attendance Policy or if you wish to attend virtually please contact the temple office for information. \nfor more information: \n  MBT Welcome Brochure \n  Online Dharma Talks \n In-Person Attendance Policy
URL:https://mbtchicago.org/event/family-service-jan-25-2026/
LOCATION:Midwest Buddhist Temple\, 435 W. Menomonee Street\, Chicago\, 60614\, United States
CATEGORIES:Services
ATTACH;FMTTYPE=image/jpeg:https://mbtchicago.org/wp-content/uploads/2024/01/Family-Service-1000x500-1.jpg
END:VEVENT
BEGIN:VEVENT
DTSTART;TZID=America/Chicago:20260125T120000
DTEND;TZID=America/Chicago:20260125T140000
DTSTAMP:20260424T061602
CREATED:20240115T211342Z
LAST-MODIFIED:20251209T164518Z
UID:26775-1769342400-1769349600@mbtchicago.org
SUMMARY:Shinnen Enkai Celebration
DESCRIPTION:On January 26\, after Family Service\, MBT will hold its annual meeting followed by our Shinnen Enkai New Year Celebration. Please contact the temple office to inquire about purchasing lunch.
URL:https://mbtchicago.org/event/shinnen-enkai/
LOCATION:Midwest Buddhist Temple\, 435 W. Menomonee Street\, Chicago\, 60614\, United States
CATEGORIES:Events
ATTACH;FMTTYPE=image/jpeg:https://mbtchicago.org/wp-content/uploads/2018/12/jpg/Shinnen-Enkai-Post-Image.jpg
END:VEVENT
END:VCALENDAR